BEGIN:VCALENDAR
VERSION:2.0
PRODID:-//AWES | Agroforestry and Woodlot Extension Society of Alberta - ECPv6.15.20//NONSGML v1.0//EN
CALSCALE:GREGORIAN
METHOD:PUBLISH
X-WR-CALNAME:AWES | Agroforestry and Woodlot Extension Society of Alberta
X-ORIGINAL-URL:https://www.awes-ab.ca
X-WR-CALDESC:Events for AWES | Agroforestry and Woodlot Extension Society of Alberta
REFRESH-INTERVAL;VALUE=DURATION:PT1H
X-Robots-Tag:noindex
X-PUBLISHED-TTL:PT1H
BEGIN:VTIMEZONE
TZID:America/Edmonton
BEGIN:DAYLIGHT
TZOFFSETFROM:-0700
TZOFFSETTO:-0600
TZNAME:MDT
DTSTART:20170312T090000
END:DAYLIGHT
BEGIN:STANDARD
TZOFFSETFROM:-0600
TZOFFSETTO:-0700
TZNAME:MST
DTSTART:20171105T080000
END:STANDARD
BEGIN:DAYLIGHT
TZOFFSETFROM:-0700
TZOFFSETTO:-0600
TZNAME:MDT
DTSTART:20180311T090000
END:DAYLIGHT
BEGIN:STANDARD
TZOFFSETFROM:-0600
TZOFFSETTO:-0700
TZNAME:MST
DTSTART:20181104T080000
END:STANDARD
BEGIN:DAYLIGHT
TZOFFSETFROM:-0700
TZOFFSETTO:-0600
TZNAME:MDT
DTSTART:20190310T090000
END:DAYLIGHT
BEGIN:STANDARD
TZOFFSETFROM:-0600
TZOFFSETTO:-0700
TZNAME:MST
DTSTART:20191103T080000
END:STANDARD
END:VTIMEZONE
BEGIN:VEVENT
DTSTART;TZID=America/Edmonton:20180918T090000
DTEND;TZID=America/Edmonton:20180918T160000
DTSTAMP:20260425T205120
CREATED:20180829T180411Z
LAST-MODIFIED:20180913T145235Z
UID:10000108-1537261200-1537286400@www.awes-ab.ca
SUMMARY:Eco-Buffer & Shelterbelt Workshop
DESCRIPTION:Are you interested in enhancing your land’s habitat value for wildlife such as pollinators? Reducing wind-stress on your crops\, livestock\, or farm-site? Trapping snow where you want it to be trapped? Making your land more resilient to flooding and droughts? \nIf you missed the June 20th Eco-buffer & Shelterbelt workshop\, don’t fret. On September 18\, Luke Wonneck with the Agroforestry Woodlot Extension Society (AWES) will again be joining Red Deer County to host a 2nd Eco-buffer & Shelterbelt workshop aimed at helping participants put their own designs together\, create a site prep plan and a customized management plan specifically for them. A short recap of the last workshop will also be given. \nAvailable resources and funding opportunities to help with establishing Eco-Buffers and shelterbelts will also be discussed and you will leave with your own plan of action for your eco-buffer or shelterbelt! \nWhen & Where: \n\nTuesday\, September 18\, 2018 from 5:00pm – 9:00pm\nAt the Red Deer County Centre\, in Council Chambers\n\nAgenda: \n\n5:00pm – Intros\, Recap June 20 presentations\n6:15pm – Light dinner\, ALUS/Green Acreages/CAP funding\n6:45pm – Example: Wetland site assessment (outside)\n7:45pm – Customizing your tree plant for different services\n8:15pm – Creating your own plan\n9:00pm – Head home\n\nRegistration: \n\nPre-registration is required\nRegister on Eventbrite.\nRegistration Deadline: Monday\, September 20\, 2018.\nNote: your property’s Legal Land Location/Lot Block Plan numbers are required at the event\n\nPlease call Red Deer County’s Agriculture Services at 403.342.8654 with any questions\, or email us at agriculture@rdcounty.ca
URL:https://www.awes-ab.ca/event/eco-buffer-shelterbelt-workshop-2/
LOCATION:Red Deer County Centre\, 38106 Range Road 275\, Red Deer\, Alberta\, T4S 2L9\, Canada
CATEGORIES:West of Hwy 2 between Calgary and Edmonton,East of Hwy 2 between Calgary and Edmonton
ATTACH;FMTTYPE=image/jpeg:https://www.awes-ab.ca/wp-content/uploads/2018/08/5-row-indian-head-ecobuffer-boreal2.jpg
GEO:52.2453567;-113.8489228
X-APPLE-STRUCTURED-LOCATION;VALUE=URI;X-ADDRESS=Red Deer County Centre 38106 Range Road 275 Red Deer Alberta T4S 2L9 Canada;X-APPLE-RADIUS=500;X-TITLE=38106 Range Road 275:geo:-113.8489228,52.2453567
END:VEVENT
END:VCALENDAR